BEGIN:VCALENDAR
VERSION:2.0
PRODID:-//ECVM - ECPv6.2.3//NONSGML v1.0//EN
CALSCALE:GREGORIAN
METHOD:PUBLISH
X-WR-CALNAME:ECVM
X-ORIGINAL-URL:https://ecvmicro.org
X-WR-CALDESC:Events for ECVM
REFRESH-INTERVAL;VALUE=DURATION:PT1H
X-Robots-Tag:noindex
X-PUBLISHED-TTL:PT1H
BEGIN:VTIMEZONE
TZID:UTC
BEGIN:STANDARD
TZOFFSETFROM:+0000
TZOFFSETTO:+0000
TZNAME:UTC
DTSTART:20200101T000000
END:STANDARD
END:VTIMEZONE
BEGIN:VEVENT
DTSTART;VALUE=DATE:20201025
DTEND;VALUE=DATE:20201028
DTSTAMP:20260424T154355
CREATED:20201005T073421Z
LAST-MODIFIED:20201005T073421Z
UID:866-1603584000-1603843199@ecvmicro.org
SUMMARY:2nd International ECVM Conference
DESCRIPTION:
URL:https://ecvmicro.org/event/2nd-international-ecvm-conference/
LOCATION:Online
ATTACH;FMTTYPE=image/png:https://ecvmicro.org/wp-content/uploads/2020/10/Conf-Logo-transparent.png
END:VEVENT
END:VCALENDAR